BEGIN:VCALENDAR
VERSION:2.0
PRODID:-//ZMR - ECPv6.10.3//NONSGML v1.0//EN
CALSCALE:GREGORIAN
METHOD:PUBLISH
X-WR-CALNAME:ZMR
X-ORIGINAL-URL:https://zmr.hr
X-WR-CALDESC:Events for ZMR
REFRESH-INTERVAL;VALUE=DURATION:PT1H
X-Robots-Tag:noindex
X-PUBLISHED-TTL:PT1H
BEGIN:VTIMEZONE
TZID:Europe/Helsinki
BEGIN:DAYLIGHT
TZOFFSETFROM:+0200
TZOFFSETTO:+0300
TZNAME:EEST
DTSTART:20230326T010000
END:DAYLIGHT
BEGIN:STANDARD
TZOFFSETFROM:+0300
TZOFFSETTO:+0200
TZNAME:EET
DTSTART:20231029T010000
END:STANDARD
END:VTIMEZONE
BEGIN:VEVENT
DTSTART;TZID=Europe/Helsinki:20231117T170000
DTEND;TZID=Europe/Helsinki:20231119T143000
DTSTAMP:20260422T162520
CREATED:20231111T094751Z
LAST-MODIFIED:20231111T094751Z
UID:3540-1700240400-1700404200@zmr.hr
SUMMARY:Seminar u Beču
DESCRIPTION:
URL:https://zmr.hr/dogadaj/seminar-u-becu/
LOCATION:Wien\, Obere Augartenstraße 34\, Wien\, 1024\, Austria
CATEGORIES:Seminar
ATTACH;FMTTYPE=image/jpeg:https://zmr.hr/wp-content/uploads/2023/11/WhatsApp-Image-2023-11-09-at-19.22.02.jpeg
ORGANIZER;CN="ZMR":MAILTO:uprava@zmr.hr
END:VEVENT
END:VCALENDAR