BEGIN:VCALENDAR
VERSION:2.0
PRODID:-//ZMR - ECPv6.10.3//NONSGML v1.0//EN
CALSCALE:GREGORIAN
METHOD:PUBLISH
X-ORIGINAL-URL:https://zmr.hr
X-WR-CALDESC:Events for ZMR
REFRESH-INTERVAL;VALUE=DURATION:PT1H
X-Robots-Tag:noindex
X-PUBLISHED-TTL:PT1H
BEGIN:VTIMEZONE
TZID:Europe/Helsinki
BEGIN:DAYLIGHT
TZOFFSETFROM:+0200
TZOFFSETTO:+0300
TZNAME:EEST
DTSTART:20230326T010000
END:DAYLIGHT
BEGIN:STANDARD
TZOFFSETFROM:+0300
TZOFFSETTO:+0200
TZNAME:EET
DTSTART:20231029T010000
END:STANDARD
END:VTIMEZONE
BEGIN:VEVENT
DTSTART;TZID=Europe/Helsinki:20231124T193000
DTEND;TZID=Europe/Helsinki:20231126T200000
DTSTAMP:20260422T163055
CREATED:20231121T185408Z
LAST-MODIFIED:20231121T185408Z
UID:3698-1700854200-1701028800@zmr.hr
SUMMARY:Seminar nove evangelizacije – Zagreb
DESCRIPTION:Matična vrhovna uprava Zajednice Molitva i Riječ organizira trodnevni evangelizacijski seminar prema modelu Tomislava Ivančića pod naslovom: \n“Zakeju žurno siđi\, danas mi je proboraviti u tvojoj kući”. (Lk 19\, 1-10) \nSeminar će se održati od 24. do 26. studenog 2023.\, u Movie Pubu (Savska 141). \nRaspored je sljedeći: \nPetak 19.30 – 21.30\nSubota 15.00 – 21.00 s pauzama\nNedjelja 16.00 – 20.00 s pauzom \nVoditelji seminara su evangelizatori: Ivica Lulić\, Mario Jakešević i Marina Peterlin. \nSvi su dobrodošli i ulaz je besplatan. \nDodatne informacije o povijesti i cilju seminara možete pronaći ovdje
URL:https://zmr.hr/dogadaj/seminar-nove-evangelizacije-zagreb/
LOCATION:Movie Pub\, Savska cesta 141\, Zagreb\, 10000\, Croatia (Local Name: Hrvatska)
CATEGORIES:Seminar
ATTACH;FMTTYPE=image/jpeg:https://zmr.hr/wp-content/uploads/2023/11/pub.jpg
ORGANIZER;CN="ZMR":MAILTO:uprava@zmr.hr
END:VEVENT
END:VCALENDAR