BEGIN:VCALENDAR
VERSION:2.0
PRODID:-//ZMR - ECPv6.10.3//NONSGML v1.0//EN
CALSCALE:GREGORIAN
METHOD:PUBLISH
X-WR-CALNAME:ZMR
X-ORIGINAL-URL:https://zmr.hr
X-WR-CALDESC:Events for ZMR
REFRESH-INTERVAL;VALUE=DURATION:PT1H
X-Robots-Tag:noindex
X-PUBLISHED-TTL:PT1H
BEGIN:VTIMEZONE
TZID:Europe/Helsinki
BEGIN:DAYLIGHT
TZOFFSETFROM:+0200
TZOFFSETTO:+0300
TZNAME:EEST
DTSTART:20230326T010000
END:DAYLIGHT
BEGIN:STANDARD
TZOFFSETFROM:+0300
TZOFFSETTO:+0200
TZNAME:EET
DTSTART:20231029T010000
END:STANDARD
END:VTIMEZONE
BEGIN:VEVENT
DTSTART;TZID=Europe/Helsinki:20231208T190000
DTEND;TZID=Europe/Helsinki:20231210T203000
DTSTAMP:20260422T145534
CREATED:20231206T222707Z
LAST-MODIFIED:20231206T222707Z
UID:3723-1702062000-1702240200@zmr.hr
SUMMARY:Seminar u Mostaru
DESCRIPTION:
URL:https://zmr.hr/dogadaj/seminar-u-mostaru/
LOCATION:Mostar\, Franjevačka 1\, Mostar\, 88000\, Bosnia and Herzegovina
CATEGORIES:Seminar
ATTACH;FMTTYPE=application/pdf:https://zmr.hr/wp-content/uploads/2023/12/Plakat_seminar_Mostar.pdf
END:VEVENT
BEGIN:VEVENT
DTSTART;TZID=Europe/Helsinki:20231208T193000
DTEND;TZID=Europe/Helsinki:20231210T180000
DTSTAMP:20260422T145534
CREATED:20231206T222353Z
LAST-MODIFIED:20231206T222353Z
UID:3719-1702063800-1702231200@zmr.hr
SUMMARY:Seminar u župi sv. Vida\, Brdovec
DESCRIPTION:
URL:https://zmr.hr/dogadaj/seminar-u-zupi-sv-vida-brdovec/
LOCATION:Brdovec\, Trg Mirka Cigrovskog 1\, Brdovec\, 10291\, Croatia (Local Name: Hrvatska)
CATEGORIES:Seminar
ATTACH;FMTTYPE=image/jpeg:https://zmr.hr/wp-content/uploads/2023/12/WhatsApp-Image-2023-12-02-at-13.13.26.jpeg
ORGANIZER;CN="ZMR":MAILTO:uprava@zmr.hr
END:VEVENT
BEGIN:VEVENT
DTSTART;TZID=Europe/Helsinki:20231208T193000
DTEND;TZID=Europe/Helsinki:20231210T200000
DTSTAMP:20260422T145534
CREATED:20231206T223230Z
LAST-MODIFIED:20231206T223230Z
UID:3728-1702063800-1702238400@zmr.hr
SUMMARY:Seminar Nove Evangelizacije Online
DESCRIPTION:Prijavnica za online Seminar nove evangelizacije pod geslom: “Pođi za mnom!” (Mt 9\,9)\nZajednica Molitva i Riječ organizira online seminar nove evangelizacije pod Geslom “Pođi za mnom!” (Mt 9\,9)\nPrijavnti se na seminar možete na linku ispod: \nLink za prijavu
URL:https://zmr.hr/dogadaj/seminar-nove-evangelizacije-online-2/
CATEGORIES:Seminar
ORGANIZER;CN="ZMR":MAILTO:uprava@zmr.hr
END:VEVENT
END:VCALENDAR