BEGIN:VCALENDAR
VERSION:2.0
PRODID:-//ZMR - ECPv6.10.3//NONSGML v1.0//EN
CALSCALE:GREGORIAN
METHOD:PUBLISH
X-WR-CALNAME:ZMR
X-ORIGINAL-URL:https://zmr.hr
X-WR-CALDESC:Events for ZMR
REFRESH-INTERVAL;VALUE=DURATION:PT1H
X-Robots-Tag:noindex
X-PUBLISHED-TTL:PT1H
BEGIN:VTIMEZONE
TZID:Europe/Helsinki
BEGIN:DAYLIGHT
TZOFFSETFROM:+0200
TZOFFSETTO:+0300
TZNAME:EEST
DTSTART:20240331T010000
END:DAYLIGHT
BEGIN:STANDARD
TZOFFSETFROM:+0300
TZOFFSETTO:+0200
TZNAME:EET
DTSTART:20241027T010000
END:STANDARD
END:VTIMEZONE
BEGIN:VEVENT
DTSTART;TZID=Europe/Helsinki:20240105T190000
DTEND;TZID=Europe/Helsinki:20240107T200000
DTSTAMP:20260422T130531
CREATED:20231231T181005Z
LAST-MODIFIED:20231231T181005Z
UID:3733-1704481200-1704657600@zmr.hr
SUMMARY:Online Seminar Nove Evangelizacije
DESCRIPTION:Od 5-7.1.2024. god. održat će se online ZOOM seminar Nove evangelizacije pod nazivom: “Ovo je Sin moj ljubljeni\, slušajte ga!”. Voditelji: Ivica Lulić i članovi ZMR. Dobrodošli svi koji traže smisao života\, a osobito muževi i oni koji to žele postati! Prijaviti se možete online putem prijavnice: https://forms.gle/3L2zu74JRLDdFd5HA
URL:https://zmr.hr/dogadaj/online-seminar-nove-evangelizacije/
CATEGORIES:Seminar
ATTACH;FMTTYPE=image/jpeg:https://zmr.hr/wp-content/uploads/2023/12/AA6922D8-F4EF-4359-A91E-8C23DB23598F.jpeg
ORGANIZER;CN="ZMR":MAILTO:uprava@zmr.hr
END:VEVENT
END:VCALENDAR