BEGIN:VCALENDAR
VERSION:2.0
PRODID:-//ZMR - ECPv6.10.3//NONSGML v1.0//EN
CALSCALE:GREGORIAN
METHOD:PUBLISH
X-WR-CALNAME:ZMR
X-ORIGINAL-URL:https://zmr.hr
X-WR-CALDESC:Events for ZMR
REFRESH-INTERVAL;VALUE=DURATION:PT1H
X-Robots-Tag:noindex
X-PUBLISHED-TTL:PT1H
BEGIN:VTIMEZONE
TZID:Europe/Helsinki
BEGIN:DAYLIGHT
TZOFFSETFROM:+0200
TZOFFSETTO:+0300
TZNAME:EEST
DTSTART:20240331T010000
END:DAYLIGHT
BEGIN:STANDARD
TZOFFSETFROM:+0300
TZOFFSETTO:+0200
TZNAME:EET
DTSTART:20241027T010000
END:STANDARD
END:VTIMEZONE
BEGIN:VEVENT
DTSTART;TZID=Europe/Helsinki:20240419T193000
DTEND;TZID=Europe/Helsinki:20240421T110000
DTSTAMP:20260422T080430
CREATED:20240410T134827Z
LAST-MODIFIED:20240410T134827Z
UID:3858-1713555000-1713697200@zmr.hr
SUMMARY:Seminar Nova Gradiška
DESCRIPTION:
URL:https://zmr.hr/dogadaj/seminar-nova-gradiska/
LOCATION:Nova Gradiška\, Alojzija Stepinca 1\, Nova Gradiška\, 35400\, Croatia (Local Name: Hrvatska)
CATEGORIES:Seminar
ATTACH;FMTTYPE=application/pdf:https://zmr.hr/wp-content/uploads/2024/04/Seminar-Nova-Gradiska.pdf
ORGANIZER;CN="ZMR":MAILTO:uprava@zmr.hr
END:VEVENT
END:VCALENDAR