BEGIN:VCALENDAR
VERSION:2.0
PRODID:-//ZMR - ECPv6.10.3//NONSGML v1.0//EN
CALSCALE:GREGORIAN
METHOD:PUBLISH
X-ORIGINAL-URL:https://zmr.hr
X-WR-CALDESC:Events for ZMR
REFRESH-INTERVAL;VALUE=DURATION:PT1H
X-Robots-Tag:noindex
X-PUBLISHED-TTL:PT1H
BEGIN:VTIMEZONE
TZID:Europe/Helsinki
BEGIN:DAYLIGHT
TZOFFSETFROM:+0200
TZOFFSETTO:+0300
TZNAME:EEST
DTSTART:20240331T010000
END:DAYLIGHT
BEGIN:STANDARD
TZOFFSETFROM:+0300
TZOFFSETTO:+0200
TZNAME:EET
DTSTART:20241027T010000
END:STANDARD
END:VTIMEZONE
BEGIN:VEVENT
DTSTART;TZID=Europe/Helsinki:20240213T200000
DTEND;TZID=Europe/Helsinki:20240213T213000
DTSTAMP:20260422T050738
CREATED:20240203T184709Z
LAST-MODIFIED:20240210T222305Z
UID:3787-1707854400-1707859800@zmr.hr
SUMMARY:Međunarodni Hagioterapijsko Evangelizacijski Susret
DESCRIPTION:SVETOST SPOLNOSTI – 2. dio \nSpolnost se ne može odijeliti od čovjeka. A kako je čovjek sastavljen od bezgraničnog i ograničenog\, od duhovnog i materijalnog. Tako i u spolnosti prepoznajemo čudesno uspinjanje od one fizičke privlačnosti\, preko erotike koja je na psihičkoj razini prema ljubavi koja je duh. Čovjek je vrhunsko biće kad počne ljubiti! A bit ljubavi je da uvijek čeznem samo za dobrim\, svakome želim dobro i ne mogu biti zao.\n„Ljubav je prostor u koji uđeš i onda znaš da si spašen i da ti nitko ne može ništa. Ljubav… to su nečije oči koje su postale tvoje\, to je nečiji pogled koji je i tvoj pogled…“\nT. Ivančić\nKako biti čist u svojoj spolnosti i ne tražiti samo užitak nego sjedinjenje s nekim saznaj na međunarodnom hagioterapijsko-evangelizacijskom susretu u utorak 13.2.2024. u 20 sati (online)! \nNove prijave se primaju na poveznici: https://forms.gle/zsFXHGAHxkJ7vZFcA\nNapomena: svi koji su se već prijavili u 2024. ne moraju se ponovno prijavljivati\, dobit će e-mail s poveznicom za susret
URL:https://zmr.hr/dogadaj/medunarodni-hagioterapijsko-evangelizacijski-susret-3/
CATEGORIES:Međunarodni susret
ATTACH;FMTTYPE=image/jpeg:https://zmr.hr/wp-content/uploads/2024/02/WhatsApp-Image-2024-02-10-at-08.20.52.jpeg
ORGANIZER;CN="ZMR":MAILTO:uprava@zmr.hr
END:VEVENT
END:VCALENDAR