BEGIN:VCALENDAR
VERSION:2.0
PRODID:-//ZMR - ECPv6.10.3//NONSGML v1.0//EN
CALSCALE:GREGORIAN
METHOD:PUBLISH
X-WR-CALNAME:ZMR
X-ORIGINAL-URL:https://zmr.hr
X-WR-CALDESC:Events for ZMR
REFRESH-INTERVAL;VALUE=DURATION:PT1H
X-Robots-Tag:noindex
X-PUBLISHED-TTL:PT1H
BEGIN:VTIMEZONE
TZID:Europe/Helsinki
BEGIN:DAYLIGHT
TZOFFSETFROM:+0200
TZOFFSETTO:+0300
TZNAME:EEST
DTSTART:20240331T010000
END:DAYLIGHT
BEGIN:STANDARD
TZOFFSETFROM:+0300
TZOFFSETTO:+0200
TZNAME:EET
DTSTART:20241027T010000
END:STANDARD
END:VTIMEZONE
BEGIN:VEVENT
DTSTART;TZID=Europe/Helsinki:20240611T200000
DTEND;TZID=Europe/Helsinki:20240611T200000
DTSTAMP:20260421T215817
CREATED:20240609T084047Z
LAST-MODIFIED:20240609T084047Z
UID:3956-1718136000-1718136000@zmr.hr
SUMMARY:Tjedni Međunarodni Hagioterapijsko Evangelizacijski Susret
DESCRIPTION:OBRAT KAO LIJEK U HAGIOTERAPIJI I EVANGELIZACIJI\nČovjek je vrhunsko biće. I jedino on od sveg stvorenja ima svoju osobnost. I upravo ja\, kao osoba\, imam slobodu. U toj slobodi mogu činiti dobro ili činiti zlo. A čim mislim\, govorim ili činim zlo u moje biće ulazi neprijateljstvo i bolest. Zlo razara cijelo moje biće\, i tijelo i psihu i duh. Čak i ako ja nisam u teškom grijehu\, drugi oko mene griješe i sve to na mene utječe.\nAli kad se ja u svojoj osobnosti okrenem dobru\, kad vjerujem u zdravlje\, u ono što je ljubav\, dobrota\, istina\, ljepota\, tada i stanice mog tijela surađuju na dobru\, dolazi ozdravljenje. Kad sam okrenut dobru\, odlučujem se za dobro\, tad se regeneriraju sve moje sposobnosti i duhovne i psihičke i tjelesne. Nema drugog puta. \nVidimo se na međunarodnom hagioterapijsko-evangelizacijskom susretu u utorak 11.6.2024. u 20 sati (online)! \nNove prijave se primaju na poveznici: https://forms.gle/zsFXHGAHxkJ7vZFcA\nNapomena: svi koji su se već prijavili u 2024. ne moraju se ponovno prijavljivati\, dobit će e-mail s poveznicom za susret
URL:https://zmr.hr/dogadaj/tjedni-medunarodni-hagioterapijsko-evangelizacijski-susret-3/
CATEGORIES:Međunarodni susret
ATTACH;FMTTYPE=image/jpeg:https://zmr.hr/wp-content/uploads/2024/06/WhatsApp-Image-2024-06-09-at-09.38.19.jpeg
ORGANIZER;CN="ZMR":MAILTO:uprava@zmr.hr
END:VEVENT
BEGIN:VEVENT
DTSTART;TZID=Europe/Helsinki:20240618T200000
DTEND;TZID=Europe/Helsinki:20240618T200000
DTSTAMP:20260421T215817
CREATED:20240613T102737Z
LAST-MODIFIED:20240613T102737Z
UID:3960-1718740800-1718740800@zmr.hr
SUMMARY:Tjedni Hagioterapijsko Evangelizacijski Susret
DESCRIPTION:ZAVOLJETI SEBE\nŠto uistinu znači „zavoljeti sebe“? Znači li to da brinem samo o sebi i ugađam si u svemu što poželim? To me vodi u egoizam i time mogu samo sebe izgubiti.\nSebe zavoljeti znači prihvatiti najprije da me Bog stvorio. I kad sebe prihvatim iz njegove ruke mogu razviti sve talente koje sam dobio\, postati vrhunski! I tad mi je važno da sebe sačuvam od propasti. A to ne mogu sam\, ne mogu se sam spasiti\, ne mogu se sam otkupiti od grijeha. I tada mi Bog postaje najvažniji jer bez njega to ne mogu! Ali ako ne volim čovjeka ne mogu ni do Boga jer je u mom srcu mržnja\, zlo.\nTako da ljubav prema sebi vodi do ljubavi prema Bogu do koje ne mogu bez ljubavi prema čovjeku. I tu je tajna novih ljudskih odnosa! \nVidimo se na posljednjem međunarodnom hagioterapijsko-evangelizacijskom susretu ove sezone u utorak 18.6.2024. u 20 sati (online)! \nNove prijave se primaju na poveznici: https://forms.gle/zsFXHGAHxkJ7vZFcA\nNapomena: svi koji su se već prijavili u 2024. ne moraju se ponovno prijavljivati\, dobit će e-mail s poveznicom za susret
URL:https://zmr.hr/dogadaj/tjedni-hagioterapijsko-evangelizacijski-susret/
CATEGORIES:Međunarodni susret
ATTACH;FMTTYPE=image/jpeg:https://zmr.hr/wp-content/uploads/2024/06/WhatsApp-Image-2024-06-13-at-12.23.53.jpeg
ORGANIZER;CN="ZMR":MAILTO:uprava@zmr.hr
END:VEVENT
END:VCALENDAR